BEGIN:VCALENDAR
VERSION:2.0
PRODID:-//SUNY Sullivan - ECPv6.15.20//NONSGML v1.0//EN
CALSCALE:GREGORIAN
METHOD:PUBLISH
X-WR-CALNAME:SUNY Sullivan
X-ORIGINAL-URL:https://sunysullivan.edu
X-WR-CALDESC:Events for SUNY Sullivan
REFRESH-INTERVAL;VALUE=DURATION:PT1H
X-Robots-Tag:noindex
X-PUBLISHED-TTL:PT1H
BEGIN:VTIMEZONE
TZID:America/New_York
BEGIN:DAYLIGHT
TZOFFSETFROM:-0500
TZOFFSETTO:-0400
TZNAME:EDT
DTSTART:20250309T070000
END:DAYLIGHT
BEGIN:STANDARD
TZOFFSETFROM:-0400
TZOFFSETTO:-0500
TZNAME:EST
DTSTART:20251102T060000
END:STANDARD
BEGIN:DAYLIGHT
TZOFFSETFROM:-0500
TZOFFSETTO:-0400
TZNAME:EDT
DTSTART:20260308T070000
END:DAYLIGHT
BEGIN:STANDARD
TZOFFSETFROM:-0400
TZOFFSETTO:-0500
TZNAME:EST
DTSTART:20261101T060000
END:STANDARD
BEGIN:DAYLIGHT
TZOFFSETFROM:-0500
TZOFFSETTO:-0400
TZNAME:EDT
DTSTART:20270314T070000
END:DAYLIGHT
BEGIN:STANDARD
TZOFFSETFROM:-0400
TZOFFSETTO:-0500
TZNAME:EST
DTSTART:20271107T060000
END:STANDARD
END:VTIMEZONE
BEGIN:VEVENT
DTSTART;TZID=America/New_York:20260407T153000
DTEND;TZID=America/New_York:20260407T163000
DTSTAMP:20260420T082608
CREATED:20230216T161715Z
LAST-MODIFIED:20230216T161715Z
UID:22269-1775575800-1775579400@sunysullivan.edu
SUMMARY:Student Government Association Open Meetings
DESCRIPTION:The SGA holds open meetings on Tuesdays from 3:30 pm to 4:30 pm in the Student Union. Everyone is welcome to attend!
URL:https://sunysullivan.edu/event/student-government-association-open-meetings/2026-04-07/
LOCATION:SUNY Sullivan\, 112 College Road\, Loch Sheldrake\, NY\, 12759\, United States
CATEGORIES:Student Activities
END:VEVENT
BEGIN:VEVENT
DTSTART;VALUE=DATE:20260401
DTEND;VALUE=DATE:20260402
DTSTAMP:20260420T082608
CREATED:20250521T142616Z
LAST-MODIFIED:20250521T142616Z
UID:28547-1775001600-1775087999@sunysullivan.edu
SUMMARY:Last Day to Withdraw
DESCRIPTION:
URL:https://sunysullivan.edu/event/last-day-to-withdraw-2/
LOCATION:SUNY Sullivan\, 112 College Road\, Loch Sheldrake\, NY\, 12759\, United States
CATEGORIES:Academic Calendar,Spring Academic Calendar
END:VEVENT
BEGIN:VEVENT
DTSTART;TZID=America/New_York:20260331T153000
DTEND;TZID=America/New_York:20260331T163000
DTSTAMP:20260420T082608
CREATED:20230216T161715Z
LAST-MODIFIED:20230216T161715Z
UID:22168-1774971000-1774974600@sunysullivan.edu
SUMMARY:Student Government Association Open Meetings
DESCRIPTION:The SGA holds open meetings on Tuesdays from 3:30 pm to 4:30 pm in the Student Union. Everyone is welcome to attend!
URL:https://sunysullivan.edu/event/student-government-association-open-meetings/2026-03-31/
LOCATION:SUNY Sullivan\, 112 College Road\, Loch Sheldrake\, NY\, 12759\, United States
CATEGORIES:Student Activities
END:VEVENT
BEGIN:VEVENT
DTSTART;TZID=America/New_York:20260324T153000
DTEND;TZID=America/New_York:20260324T163000
DTSTAMP:20260420T082608
CREATED:20230216T161715Z
LAST-MODIFIED:20230216T161715Z
UID:21980-1774366200-1774369800@sunysullivan.edu
SUMMARY:Student Government Association Open Meetings
DESCRIPTION:The SGA holds open meetings on Tuesdays from 3:30 pm to 4:30 pm in the Student Union. Everyone is welcome to attend!
URL:https://sunysullivan.edu/event/student-government-association-open-meetings/2026-03-24/
LOCATION:SUNY Sullivan\, 112 College Road\, Loch Sheldrake\, NY\, 12759\, United States
CATEGORIES:Student Activities
END:VEVENT
BEGIN:VEVENT
DTSTART;TZID=America/New_York:20260323T000000
DTEND;TZID=America/New_York:20260327T000000
DTSTAMP:20260420T082608
CREATED:20250521T142444Z
LAST-MODIFIED:20250521T142444Z
UID:28543-1774224000-1774569600@sunysullivan.edu
SUMMARY:Spring Break
DESCRIPTION:
URL:https://sunysullivan.edu/event/spring-break/
LOCATION:SUNY Sullivan\, 112 College Road\, Loch Sheldrake\, NY\, 12759\, United States
CATEGORIES:Academic Calendar,Spring Academic Calendar
END:VEVENT
BEGIN:VEVENT
DTSTART;TZID=America/New_York:20260321T120000
DTEND;TZID=America/New_York:20260321T173000
DTSTAMP:20260420T082608
CREATED:20251014T181630Z
LAST-MODIFIED:20251121T210251Z
UID:29993-1774094400-1774114200@sunysullivan.edu
SUMMARY:The Met Live in HD: Tristan und Isolde
DESCRIPTION:The Met: Live in HD will be transmitting a series of live opera performances via satellite from the Metropolitan Opera to SUNY Sullivan.\n\nRICHARD WAGNER\nTristan und Isolde\nNEW PRODUCTION | LIVE IN HD \nSaturday\, March 21\, 2026 | 12 p.m. \nIn a truly unmissable event\, the electrifying Lise Davidsen tackles one of the ultimate roles for dramatic sopranos: the Irish princess Isolde in Wagner’s meditation on love and death. Heroic tenor Michael Spyres stars opposite Davidsen as the love-drunk Tristan. The momentous occasion also marks the advent of a new staging by Yuval Sharon. Yannick Nézet-Séguin conducts the new production\, which will be transmitted live from the Met stage to cinemas on March 21. \n\nBUY TICKETS NOW \n\n\n\n\n\nNEW THIS YEAR: Doors open at noon with pre-performance discussion starting at 12:15 p.m. Live performance begins promptly at 1 p.m.\nAll proceeds to benefit the SUNY Sullivan Foundation | Tickets also available at the door \nDoors and box office will open 30 minutes before screening | All screenings (aside from The Magic Flute and Cinderella) are simulcasts of live performances and will start promptly. \n\nTHANK YOU TO OUR MET OPERA SPONSORS:\nSTEAM Fund\nWJFF Radio
URL:https://sunysullivan.edu/event/the-met-live-in-hd-tristan-und-isolde/
LOCATION:SUNY Sullivan\, 112 College Road\, Loch Sheldrake\, NY\, 12759\, United States
CATEGORIES:Community Events,Foundation Events
ATTACH;FMTTYPE=image/jpeg:https://sunysullivan.edu/wp-content/uploads/2025/10/Mar-21-Tristan-und-Isolde-EB.jpg
END:VEVENT
BEGIN:VEVENT
DTSTART;TZID=America/New_York:20260320T100000
DTEND;TZID=America/New_York:20260320T100000
DTSTAMP:20260420T082608
CREATED:20250521T142022Z
LAST-MODIFIED:20260309T191649Z
UID:28539-1774000800-1774000800@sunysullivan.edu
SUMMARY:Grade Entry: Midterm
DESCRIPTION:
URL:https://sunysullivan.edu/event/grade-entry-midterm/
LOCATION:SUNY Sullivan\, 112 College Road\, Loch Sheldrake\, NY\, 12759\, United States
CATEGORIES:Academic Calendar
END:VEVENT
BEGIN:VEVENT
DTSTART;TZID=America/New_York:20260317T153000
DTEND;TZID=America/New_York:20260317T163000
DTSTAMP:20260420T082608
CREATED:20230216T161715Z
LAST-MODIFIED:20230216T161715Z
UID:21925-1773761400-1773765000@sunysullivan.edu
SUMMARY:Student Government Association Open Meetings
DESCRIPTION:The SGA holds open meetings on Tuesdays from 3:30 pm to 4:30 pm in the Student Union. Everyone is welcome to attend!
URL:https://sunysullivan.edu/event/student-government-association-open-meetings/2026-03-17/
LOCATION:SUNY Sullivan\, 112 College Road\, Loch Sheldrake\, NY\, 12759\, United States
CATEGORIES:Student Activities
END:VEVENT
BEGIN:VEVENT
DTSTART;TZID=America/New_York:20260313T100000
DTEND;TZID=America/New_York:20260313T100000
DTSTAMP:20260420T082608
CREATED:20250521T141847Z
LAST-MODIFIED:20260309T191611Z
UID:28535-1773396000-1773396000@sunysullivan.edu
SUMMARY:Express - Report: No-Show Due Date
DESCRIPTION:
URL:https://sunysullivan.edu/event/express-report-no-show-due-date/
LOCATION:SUNY Sullivan\, 112 College Road\, Loch Sheldrake\, NY\, 12759\, United States
CATEGORIES:Academic Calendar
END:VEVENT
BEGIN:VEVENT
DTSTART;TZID=America/New_York:20260312T170000
DTEND;TZID=America/New_York:20260312T190000
DTSTAMP:20260420T082608
CREATED:20260303T145204Z
LAST-MODIFIED:20260303T165737Z
UID:31456-1773334800-1773342000@sunysullivan.edu
SUMMARY:MediterrAsian Fusion: A Culinary Experience
DESCRIPTION:Our talented Culinary Program students are preparing a special MediterrAsian Fusion dinner at Tango Café\, bringing together community members and friends of the college for an evening of great food and impactful conversation. \nAs SUNY Sullivan begins strategic planning\, your perspective matters. We want to hear your insights on what the college does well and your vision for what it can become for the next generation of students. Join us for dinner\, share your story\, and help us chart the path forward. \n\nDate: March 12\nTime: Starting at 5 p.m.\nLocation: Tango Café @ HPAC | 221 Main St. Hurleyville\, NY\nCost: $30 (Prix Fixe Menu)\nReservations: Recommended\n\n[MAKE YOUR RESERVATION]\n  \n\nMEDITERRASIAN FUSION\nPRIX FIXE MENU\n(Fusion dishes served family-style to celebrate bold flavors\, shared experiences & the spirit of community that brings us together) \nHORS D’OUEVRES \n\nTuna Crudo (Sashimi)\nLamb Kofta\nSpanakopita Spring Rolls\n\nSALAD \n\nCucumber\n\nENTREES \n\nChicken Kabob Yakitori\nShrimp Saganaki Ramen\nEggplant Imam Donburi\n\nDESSERT \n\nCoconut Rice\n\n[MAKE YOUR RESERVATION]
URL:https://sunysullivan.edu/event/mediterrasian-fusion-a-culinary-experience/
LOCATION:SUNY Sullivan\, 112 College Road\, Loch Sheldrake\, NY\, 12759\, United States
CATEGORIES:Alumni Events,Community Events
ATTACH;FMTTYPE=image/jpeg:https://sunysullivan.edu/wp-content/uploads/2026/03/SSF-Mediterrasian-Web-FB-EB-1.jpg
END:VEVENT
BEGIN:VEVENT
DTSTART;VALUE=DATE:20260311
DTEND;VALUE=DATE:20260312
DTSTAMP:20260420T082608
CREATED:20250521T141537Z
LAST-MODIFIED:20260225T153656Z
UID:28531-1773187200-1773273599@sunysullivan.edu
SUMMARY:Spring Express – Census Date – Last Day to Drop
DESCRIPTION:
URL:https://sunysullivan.edu/event/express-census-date-last-day-to-drop/
LOCATION:SUNY Sullivan\, 112 College Road\, Loch Sheldrake\, NY\, 12759\, United States
CATEGORIES:Academic Calendar,Spring Academic Calendar
END:VEVENT
BEGIN:VEVENT
DTSTART;TZID=America/New_York:20260310T153000
DTEND;TZID=America/New_York:20260310T163000
DTSTAMP:20260420T082608
CREATED:20230216T161715Z
LAST-MODIFIED:20230216T161715Z
UID:21897-1773156600-1773160200@sunysullivan.edu
SUMMARY:Student Government Association Open Meetings
DESCRIPTION:The SGA holds open meetings on Tuesdays from 3:30 pm to 4:30 pm in the Student Union. Everyone is welcome to attend!
URL:https://sunysullivan.edu/event/student-government-association-open-meetings/2026-03-10/
LOCATION:SUNY Sullivan\, 112 College Road\, Loch Sheldrake\, NY\, 12759\, United States
CATEGORIES:Student Activities
END:VEVENT
BEGIN:VEVENT
DTSTART;TZID=America/New_York:20260303T153000
DTEND;TZID=America/New_York:20260303T163000
DTSTAMP:20260420T082608
CREATED:20230216T161715Z
LAST-MODIFIED:20230216T161715Z
UID:21758-1772551800-1772555400@sunysullivan.edu
SUMMARY:Student Government Association Open Meetings
DESCRIPTION:The SGA holds open meetings on Tuesdays from 3:30 pm to 4:30 pm in the Student Union. Everyone is welcome to attend!
URL:https://sunysullivan.edu/event/student-government-association-open-meetings/2026-03-03/
LOCATION:SUNY Sullivan\, 112 College Road\, Loch Sheldrake\, NY\, 12759\, United States
CATEGORIES:Student Activities
END:VEVENT
BEGIN:VEVENT
DTSTART;VALUE=DATE:20260302
DTEND;VALUE=DATE:20260303
DTSTAMP:20260420T082608
CREATED:20250521T141420Z
LAST-MODIFIED:20260225T153646Z
UID:28527-1772409600-1772495999@sunysullivan.edu
SUMMARY:Spring Express - Last Day to Add
DESCRIPTION:
URL:https://sunysullivan.edu/event/express-last-day-to-add/
LOCATION:SUNY Sullivan\, 112 College Road\, Loch Sheldrake\, NY\, 12759\, United States
CATEGORIES:Academic Calendar,Spring Academic Calendar
END:VEVENT
BEGIN:VEVENT
DTSTART;TZID=America/New_York:20260226T100000
DTEND;TZID=America/New_York:20260226T100000
DTSTAMP:20260420T082608
CREATED:20250521T140811Z
LAST-MODIFIED:20260309T192110Z
UID:28519-1772100000-1772100000@sunysullivan.edu
SUMMARY:Report: 5-Week Progress
DESCRIPTION:
URL:https://sunysullivan.edu/event/report-5-week-progress/
LOCATION:SUNY Sullivan\, 112 College Road\, Loch Sheldrake\, NY\, 12759\, United States
CATEGORIES:Academic Calendar
END:VEVENT
BEGIN:VEVENT
DTSTART;VALUE=DATE:20260225
DTEND;VALUE=DATE:20260226
DTSTAMP:20260420T082608
CREATED:20250521T141225Z
LAST-MODIFIED:20260225T153542Z
UID:28523-1771977600-1772063999@sunysullivan.edu
SUMMARY:Spring Express Semester Begins
DESCRIPTION:
URL:https://sunysullivan.edu/event/express/
LOCATION:SUNY Sullivan\, 112 College Road\, Loch Sheldrake\, NY\, 12759\, United States
CATEGORIES:Academic Calendar,Spring Academic Calendar
END:VEVENT
BEGIN:VEVENT
DTSTART;TZID=America/New_York:20260224T153000
DTEND;TZID=America/New_York:20260224T163000
DTSTAMP:20260420T082608
CREATED:20230216T161715Z
LAST-MODIFIED:20230216T161715Z
UID:21591-1771947000-1771950600@sunysullivan.edu
SUMMARY:Student Government Association Open Meetings
DESCRIPTION:The SGA holds open meetings on Tuesdays from 3:30 pm to 4:30 pm in the Student Union. Everyone is welcome to attend!
URL:https://sunysullivan.edu/event/student-government-association-open-meetings/2026-02-24/
LOCATION:SUNY Sullivan\, 112 College Road\, Loch Sheldrake\, NY\, 12759\, United States
CATEGORIES:Student Activities
END:VEVENT
BEGIN:VEVENT
DTSTART;VALUE=DATE:20260224
DTEND;VALUE=DATE:20260225
DTSTAMP:20260420T082608
CREATED:20250521T140339Z
LAST-MODIFIED:20250521T140339Z
UID:28515-1771891200-1771977599@sunysullivan.edu
SUMMARY:End of Week 5
DESCRIPTION:
URL:https://sunysullivan.edu/event/end-of-week-5/
LOCATION:SUNY Sullivan\, 112 College Road\, Loch Sheldrake\, NY\, 12759\, United States
CATEGORIES:Academic Calendar,Spring Academic Calendar
END:VEVENT
BEGIN:VEVENT
DTSTART;TZID=America/New_York:20260221T150000
DTEND;TZID=America/New_York:20260221T170000
DTSTAMP:20260420T082608
CREATED:20251230T223959Z
LAST-MODIFIED:20251230T224024Z
UID:30614-1771686000-1771693200@sunysullivan.edu
SUMMARY:Nassau Community College @ SUNY Sullivan
DESCRIPTION:Come cheer on the SUNY Sullivan Generals Men’s Basketball team!\n  \nLOCATION: Paul Gerry Fieldhouse | SUNY Sullivan\, Loch Sheldrake\, NY
URL:https://sunysullivan.edu/event/ncc-suny-sullivan/
LOCATION:SUNY Sullivan\, 112 College Road\, Loch Sheldrake\, NY\, 12759\, United States
CATEGORIES:Athletics
END:VEVENT
BEGIN:VEVENT
DTSTART;TZID=America/New_York:20260220T060000
DTEND;TZID=America/New_York:20260220T180000
DTSTAMP:20260420T082608
CREATED:20260210T140328Z
LAST-MODIFIED:20260213T171319Z
UID:30942-1771567200-1771610400@sunysullivan.edu
SUMMARY:48th Annual 98.3 WSUL Heart-A-Thon
DESCRIPTION:Join SUNY Sullivan and 98.3 WSUL for a day of community\, heart health\, and giving!\nWe are proud to announce that SUNY Sullivan President Dr. David Potash is serving as this year’s Honorary Co-Chair\, alongside George Kinne of Jeff Bank. \nThe Heart-A-Thon is a Sullivan County tradition\, raising vital funds for heart disease prevention\, education\, and treatment. Proceeds this year benefit Garnet Health Medical Center – Catskills\, Sullivan 180\, A Single Bite\, the STEAM Fund\, and NAMI of Sullivan County. \n WHAT’S HAPPENING ON FEB 20: \n\n12-Hour Live Broadcast: Tune in to 98.3 WSUL\, stream at wsul.com\, or use the RadioBold app.\nCommunity Health Fair: Open to the public all day! Visit vendor booths\, watch demonstrations\, and hear expert presentations.\nSUNY Sullivan Nursing Screenings: Meet our Nursing students on-site\, where they will be providing blood pressure screenings for attendees.\nBlood Drive: There will be a blood drive on-site from 12:00 PM – 6:00 PM. Donate blood and help save lives!\n\n\nLEARN MORE & DONATE\nEvery dollar stays local. Give today!
URL:https://sunysullivan.edu/event/48th-annual-98-3-wsul-heart-a-thon/
LOCATION:Resorts World Catskills\, 888 Resorts World Dr\, Monticello\, 12701\, United States
CATEGORIES:Community Events
ATTACH;FMTTYPE=image/jpeg:https://sunysullivan.edu/wp-content/uploads/2026/02/Co-Chair-Announcement-LI.jpg
END:VEVENT
BEGIN:VEVENT
DTSTART;TZID=America/New_York:20260217T190000
DTEND;TZID=America/New_York:20260217T210000
DTSTAMP:20260420T082608
CREATED:20251230T223916Z
LAST-MODIFIED:20251230T223916Z
UID:30610-1771354800-1771362000@sunysullivan.edu
SUMMARY:Orange County Community College @ SUNY Sullivan
DESCRIPTION:Come cheer on the SUNY Sullivan Generals Men’s Basketball team!\n  \nLOCATION: Paul Gerry Fieldhouse | SUNY Sullivan\, Loch Sheldrake\, NY
URL:https://sunysullivan.edu/event/occc-suny-sullivan/
LOCATION:SUNY Sullivan\, 112 College Road\, Loch Sheldrake\, NY\, 12759\, United States
CATEGORIES:Athletics
END:VEVENT
BEGIN:VEVENT
DTSTART;TZID=America/New_York:20260217T153000
DTEND;TZID=America/New_York:20260217T163000
DTSTAMP:20260420T082608
CREATED:20230216T161715Z
LAST-MODIFIED:20230216T161715Z
UID:21320-1771342200-1771345800@sunysullivan.edu
SUMMARY:Student Government Association Open Meetings
DESCRIPTION:The SGA holds open meetings on Tuesdays from 3:30 pm to 4:30 pm in the Student Union. Everyone is welcome to attend!
URL:https://sunysullivan.edu/event/student-government-association-open-meetings/2026-02-17/
LOCATION:SUNY Sullivan\, 112 College Road\, Loch Sheldrake\, NY\, 12759\, United States
CATEGORIES:Student Activities
END:VEVENT
BEGIN:VEVENT
DTSTART;TZID=America/New_York:20260214T140000
DTEND;TZID=America/New_York:20260214T160000
DTSTAMP:20260420T082608
CREATED:20251111T203702Z
LAST-MODIFIED:20251111T203702Z
UID:30401-1771077600-1771084800@sunysullivan.edu
SUMMARY:Dutchess Community College @ SUNY Sullivan
DESCRIPTION:Come cheer on the SUNY Sullivan Generals Men’s Basketball team!\n  \nLOCATION: Paul Gerry Fieldhouse | SUNY Sullivan\, Loch Sheldrake\, NY
URL:https://sunysullivan.edu/event/dutchess-community-college-suny-sullivan/
LOCATION:SUNY Sullivan\, 112 College Road\, Loch Sheldrake\, NY\, 12759\, United States
CATEGORIES:Athletics
END:VEVENT
BEGIN:VEVENT
DTSTART;TZID=America/New_York:20260214T130000
DTEND;TZID=America/New_York:20260214T150000
DTSTAMP:20260420T082608
CREATED:20251014T181056Z
LAST-MODIFIED:20251218T144016Z
UID:29986-1771074000-1771081200@sunysullivan.edu
SUMMARY:The Met Live in HD: Cinderella (2022 Encore)
DESCRIPTION:The Met: Live in HD will be transmitting a series of live opera performances via satellite from the Metropolitan Opera to SUNY Sullivan.\n\nJULES MASSENET\nCinderella (2022 Encore)\nABRIDGED (90-min.) | LIVE IN HD \nSaturday\, February 14\, 2026 | 1 p.m. \nAn abridged\, English-language version of Massenet’s enchanting fairy-tale opera\, this performance stars beloved mezzo-soprano Isabel Leonard as the rags-to-riches title princess and mezzo-soprano Emily D’Angelo as the love-struck Prince Charming\, with Emmanuel Villaume on the podium to lead a witty and whimsical production by Laurent Pelly. This season\, the opera returns to select movie theaters in a special encore presentation. \nBUY TICKETS NOW \n\n\n\n\n\nNEW THIS YEAR: Doors open at noon with pre-performance discussion starting at 12:15 p.m. Live performance begins promptly at 1 p.m. \nAll proceeds to benefit the SUNY Sullivan Foundation | Tickets also available at the door \nDoors and box office will open 30 minutes before screening | All screenings (aside from The Magic Flute and Cinderella) are simulcasts of live performances and will start promptly. \n\nTHANK YOU TO OUR MET OPERA SPONSORS:STEAM FundWJFF Radio
URL:https://sunysullivan.edu/event/the-met-live-in-hd-cinderella-2022-encore/
LOCATION:SUNY Sullivan\, 112 College Road\, Loch Sheldrake\, NY\, 12759\, United States
CATEGORIES:Community Events,Foundation Events
ATTACH;FMTTYPE=image/jpeg:https://sunysullivan.edu/wp-content/uploads/2025/10/Feb-14-Cinderella-EB.jpg
END:VEVENT
BEGIN:VEVENT
DTSTART;TZID=America/New_York:20260212T190000
DTEND;TZID=America/New_York:20260212T210000
DTSTAMP:20260420T082608
CREATED:20251111T203623Z
LAST-MODIFIED:20251111T203623Z
UID:30395-1770922800-1770930000@sunysullivan.edu
SUMMARY:SUNY Sullivan Generals @ SUNY Westchester Community College
DESCRIPTION:Come cheer on the SUNY Sullivan Generals Men’s Basketball team!\n  \nLOCATION: SUNY Westchester Community College | Valhalla\, NY
URL:https://sunysullivan.edu/event/suny-sullivan-generals-suny-westchester-community-college/
LOCATION:SUNY Westchester\, 75 Grasslands Rd\, Valhalla\, NY\, 10595\, United States
CATEGORIES:Athletics
END:VEVENT
BEGIN:VEVENT
DTSTART;TZID=America/New_York:20260210T153000
DTEND;TZID=America/New_York:20260210T163000
DTSTAMP:20260420T082608
CREATED:20230216T161715Z
LAST-MODIFIED:20230216T161715Z
UID:21232-1770737400-1770741000@sunysullivan.edu
SUMMARY:Student Government Association Open Meetings
DESCRIPTION:The SGA holds open meetings on Tuesdays from 3:30 pm to 4:30 pm in the Student Union. Everyone is welcome to attend!
URL:https://sunysullivan.edu/event/student-government-association-open-meetings/2026-02-10/
LOCATION:SUNY Sullivan\, 112 College Road\, Loch Sheldrake\, NY\, 12759\, United States
CATEGORIES:Student Activities
END:VEVENT
BEGIN:VEVENT
DTSTART;VALUE=DATE:20260210
DTEND;VALUE=DATE:20260211
DTSTAMP:20260420T082608
CREATED:20250521T134846Z
LAST-MODIFIED:20250521T134846Z
UID:28501-1770681600-1770767999@sunysullivan.edu
SUMMARY:Census Date (LAST DAY TO DROP) Spring Semester
DESCRIPTION:
URL:https://sunysullivan.edu/event/census-date-last-day-to-drop-spring-semester/
LOCATION:SUNY Sullivan\, 112 College Road\, Loch Sheldrake\, NY\, 12759\, United States
CATEGORIES:Academic Calendar,Spring Academic Calendar
END:VEVENT
BEGIN:VEVENT
DTSTART;TZID=America/New_York:20260208T140000
DTEND;TZID=America/New_York:20260208T160000
DTSTAMP:20260420T082608
CREATED:20251111T203420Z
LAST-MODIFIED:20251111T203420Z
UID:30391-1770559200-1770566400@sunysullivan.edu
SUMMARY:Kingsborough Community College @ SUNY Sullivan
DESCRIPTION:Come cheer on the SUNY Sullivan Generals Men’s Basketball team!\n  \nLOCATION: Paul Gerry Fieldhouse | SUNY Sullivan\, Loch Sheldrake\, NY
URL:https://sunysullivan.edu/event/kingsborough-community-college-suny-sullivan/
LOCATION:SUNY Sullivan\, 112 College Road\, Loch Sheldrake\, NY\, 12759\, United States
CATEGORIES:Athletics
END:VEVENT
BEGIN:VEVENT
DTSTART;TZID=America/New_York:20260207T140000
DTEND;TZID=America/New_York:20260207T160000
DTSTAMP:20260420T082608
CREATED:20251111T203249Z
LAST-MODIFIED:20251111T203249Z
UID:30387-1770472800-1770480000@sunysullivan.edu
SUMMARY:Hostos Community College @ SUNY Sullivan
DESCRIPTION:Come cheer on the SUNY Sullivan Generals Men’s Basketball team!\n  \nLOCATION: Paul Gerry Fieldhouse | SUNY Sullivan\, Loch Sheldrake\, NY
URL:https://sunysullivan.edu/event/hostos-community-college-suny-sullivan/
LOCATION:SUNY Sullivan\, 112 College Road\, Loch Sheldrake\, NY\, 12759\, United States
CATEGORIES:Athletics
END:VEVENT
BEGIN:VEVENT
DTSTART;TZID=America/New_York:20260205T190000
DTEND;TZID=America/New_York:20260205T210000
DTSTAMP:20260420T082608
CREATED:20251111T203208Z
LAST-MODIFIED:20251111T203208Z
UID:30383-1770318000-1770325200@sunysullivan.edu
SUMMARY:SUNY Ulster @ SUNY Sullivan
DESCRIPTION:Come cheer on the SUNY Sullivan Generals Men’s Basketball team!\n  \nLOCATION: Paul Gerry Fieldhouse | SUNY Sullivan\, Loch Sheldrake\, NY
URL:https://sunysullivan.edu/event/suny-ulster-suny-sullivan/
LOCATION:SUNY Sullivan\, 112 College Road\, Loch Sheldrake\, NY\, 12759\, United States
CATEGORIES:Athletics
END:VEVENT
END:VCALENDAR