BEGIN:VCALENDAR
VERSION:2.0
PRODID:-//SUNY Sullivan - ECPv6.15.20//NONSGML v1.0//EN
CALSCALE:GREGORIAN
METHOD:PUBLISH
X-WR-CALNAME:SUNY Sullivan
X-ORIGINAL-URL:https://sunysullivan.edu
X-WR-CALDESC:Events for SUNY Sullivan
REFRESH-INTERVAL;VALUE=DURATION:PT1H
X-Robots-Tag:noindex
X-PUBLISHED-TTL:PT1H
BEGIN:VTIMEZONE
TZID:America/New_York
BEGIN:DAYLIGHT
TZOFFSETFROM:-0500
TZOFFSETTO:-0400
TZNAME:EDT
DTSTART:20240310T070000
END:DAYLIGHT
BEGIN:STANDARD
TZOFFSETFROM:-0400
TZOFFSETTO:-0500
TZNAME:EST
DTSTART:20241103T060000
END:STANDARD
BEGIN:DAYLIGHT
TZOFFSETFROM:-0500
TZOFFSETTO:-0400
TZNAME:EDT
DTSTART:20250309T070000
END:DAYLIGHT
BEGIN:STANDARD
TZOFFSETFROM:-0400
TZOFFSETTO:-0500
TZNAME:EST
DTSTART:20251102T060000
END:STANDARD
BEGIN:DAYLIGHT
TZOFFSETFROM:-0500
TZOFFSETTO:-0400
TZNAME:EDT
DTSTART:20260308T070000
END:DAYLIGHT
BEGIN:STANDARD
TZOFFSETFROM:-0400
TZOFFSETTO:-0500
TZNAME:EST
DTSTART:20261101T060000
END:STANDARD
BEGIN:DAYLIGHT
TZOFFSETFROM:-0500
TZOFFSETTO:-0400
TZNAME:EDT
DTSTART:20270314T070000
END:DAYLIGHT
BEGIN:STANDARD
TZOFFSETFROM:-0400
TZOFFSETTO:-0500
TZNAME:EST
DTSTART:20271107T060000
END:STANDARD
END:VTIMEZONE
BEGIN:VEVENT
DTSTART;TZID=America/New_York:20260205T100000
DTEND;TZID=America/New_York:20260205T100000
DTSTAMP:20260419T204936
CREATED:20250521T134641Z
LAST-MODIFIED:20260309T192127Z
UID:28497-1770285600-1770285600@sunysullivan.edu
SUMMARY:Report: 2-Week Retention Due Date
DESCRIPTION:
URL:https://sunysullivan.edu/event/report-2-week-retention-due-date/
LOCATION:SUNY Sullivan\, 112 College Road\, Loch Sheldrake\, NY\, 12759\, United States
CATEGORIES:Academic Calendar
END:VEVENT
BEGIN:VEVENT
DTSTART;TZID=America/New_York:20260203T173000
DTEND;TZID=America/New_York:20260203T183000
DTSTAMP:20260419T204936
CREATED:20260127T213733Z
LAST-MODIFIED:20260129T184929Z
UID:30801-1770139800-1770143400@sunysullivan.edu
SUMMARY:College in High School Information Night
DESCRIPTION:Get ahead\, save money\, and build confidence—all before high school graduation.\nAre you ready to turn your high school years into a head start for your career? Join SUNY Sullivan for our College in High School (CIHS) Information Night. This event is designed for students in grades 8–12 and their families to discover how easy (and affordable) it is to earn college credits right now. \nEvent Details\n\nWhen: Tuesday\, February 3\, 2026\nTime: 5:30 p.m. – 6:30 p.m.\nWhere: SUNY Sullivan Campus (Loch Sheldrake\, NY)\nWho: Students (Grades 8–12)\, parents\, and current CIHS students from our partner districts.\n\nREGISTER NOW ON CALENDLY \n\nWhy Choose College in High School?\nThe CIHS program isn’t just about harder classes; it’s about a smarter path to a degree. By taking college-level courses in your own high school\, you can: \n\nSave Money: Dramatically reduce the future cost of your college education.\nSave Time: Earn credits that apply toward SUNY General Education requirements.\nBuild Confidence: Experience college-level rigor in a supportive\, familiar environment.\nEarn a Degree Early: Students in our Fallsburg and Eldred “Pathways” programs can even work toward an Associate’s Degree while still in high school.\n\n\n“Students gain confidence\, save time and money\, and begin to see themselves as college-bound long before graduation.” — Jason Kaplan\, CIHS Coordinator
URL:https://sunysullivan.edu/event/college-in-high-school-info-night/
LOCATION:SUNY Sullivan\, 112 College Road\, Loch Sheldrake\, NY\, 12759\, United States
CATEGORIES:Admissions Events
ATTACH;FMTTYPE=image/jpeg:https://sunysullivan.edu/wp-content/uploads/2026/01/SUNY-CIHS-LI-2.jpg
END:VEVENT
BEGIN:VEVENT
DTSTART;TZID=America/New_York:20260203T153000
DTEND;TZID=America/New_York:20260203T163000
DTSTAMP:20260419T204936
CREATED:20230216T161715Z
LAST-MODIFIED:20230216T161715Z
UID:21006-1770132600-1770136200@sunysullivan.edu
SUMMARY:Student Government Association Open Meetings
DESCRIPTION:The SGA holds open meetings on Tuesdays from 3:30 pm to 4:30 pm in the Student Union. Everyone is welcome to attend!
URL:https://sunysullivan.edu/event/student-government-association-open-meetings/2026-02-03/
LOCATION:SUNY Sullivan\, 112 College Road\, Loch Sheldrake\, NY\, 12759\, United States
CATEGORIES:Student Activities
END:VEVENT
BEGIN:VEVENT
DTSTART;VALUE=DATE:20260203
DTEND;VALUE=DATE:20260204
DTSTAMP:20260419T204936
CREATED:20250521T134430Z
LAST-MODIFIED:20250521T134430Z
UID:28493-1770076800-1770163199@sunysullivan.edu
SUMMARY:End of Week 2
DESCRIPTION:
URL:https://sunysullivan.edu/event/end-of-week-2/
LOCATION:SUNY Sullivan\, 112 College Road\, Loch Sheldrake\, NY\, 12759\, United States
CATEGORIES:Academic Calendar,Spring Academic Calendar
END:VEVENT
BEGIN:VEVENT
DTSTART;TZID=America/New_York:20260131T130000
DTEND;TZID=America/New_York:20260131T150000
DTSTAMP:20260419T204936
CREATED:20251111T202946Z
LAST-MODIFIED:20251111T202946Z
UID:30374-1769864400-1769871600@sunysullivan.edu
SUMMARY:Queensborough Community College @ SUNY Sullivan
DESCRIPTION:Come cheer on the SUNY Sullivan Generals Men’s Basketball team!\n  \nLOCATION: Paul Gerry Fieldhouse | SUNY Sullivan\, Loch Sheldrake\, NY
URL:https://sunysullivan.edu/event/queensborough-community-college-suny-sullivan/
LOCATION:SUNY Sullivan\, 112 College Road\, Loch Sheldrake\, NY\, 12759\, United States
CATEGORIES:Athletics
END:VEVENT
BEGIN:VEVENT
DTSTART;TZID=America/New_York:20260127T153000
DTEND;TZID=America/New_York:20260127T163000
DTSTAMP:20260419T204936
CREATED:20230216T161715Z
LAST-MODIFIED:20230216T161715Z
UID:20965-1769527800-1769531400@sunysullivan.edu
SUMMARY:Student Government Association Open Meetings
DESCRIPTION:The SGA holds open meetings on Tuesdays from 3:30 pm to 4:30 pm in the Student Union. Everyone is welcome to attend!
URL:https://sunysullivan.edu/event/student-government-association-open-meetings/2026-01-27/
LOCATION:SUNY Sullivan\, 112 College Road\, Loch Sheldrake\, NY\, 12759\, United States
CATEGORIES:Student Activities
END:VEVENT
BEGIN:VEVENT
DTSTART;VALUE=DATE:20260127
DTEND;VALUE=DATE:20260128
DTSTAMP:20260419T204936
CREATED:20250521T134313Z
LAST-MODIFIED:20250521T134313Z
UID:28489-1769472000-1769558399@sunysullivan.edu
SUMMARY:Last Day to Add Spring Class
DESCRIPTION:
URL:https://sunysullivan.edu/event/last-day-to-add-spring-class/
LOCATION:SUNY Sullivan\, 112 College Road\, Loch Sheldrake\, NY\, 12759\, United States
CATEGORIES:Academic Calendar,Spring Academic Calendar
END:VEVENT
BEGIN:VEVENT
DTSTART;TZID=America/New_York:20260124T140000
DTEND;TZID=America/New_York:20260124T160000
DTSTAMP:20260419T204936
CREATED:20251111T202906Z
LAST-MODIFIED:20251111T202906Z
UID:30369-1769263200-1769270400@sunysullivan.edu
SUMMARY:SUNY Sullivan Generals @ LaGuardia Community College
DESCRIPTION:Come cheer on the SUNY Sullivan Generals Men’s Basketball team!\n  \nLOCATION: LaGuardia Community College | Long Island City\, NY
URL:https://sunysullivan.edu/event/suny-sullivan-generals-laguardia-community-college/
LOCATION:LaGuardia Community College\, 31-10 Thomson Ave\, Long Island City\, NY\, 11101\, United States
CATEGORIES:Athletics
END:VEVENT
BEGIN:VEVENT
DTSTART;VALUE=DATE:20260121
DTEND;VALUE=DATE:20260122
DTSTAMP:20260419T204936
CREATED:20250521T134151Z
LAST-MODIFIED:20250521T134151Z
UID:28485-1768953600-1769039999@sunysullivan.edu
SUMMARY:First Day of Spring Semester
DESCRIPTION:
URL:https://sunysullivan.edu/event/first-day-of-spring-semester-3/
LOCATION:SUNY Sullivan\, 112 College Road\, Loch Sheldrake\, NY\, 12759\, United States
CATEGORIES:Academic Calendar,Spring Academic Calendar
END:VEVENT
BEGIN:VEVENT
DTSTART;VALUE=DATE:20260121
DTEND;VALUE=DATE:20260122
DTSTAMP:20260419T204936
CREATED:20250521T133316Z
LAST-MODIFIED:20250521T133316Z
UID:28473-1768953600-1769039999@sunysullivan.edu
SUMMARY:First Day of Spring Semester
DESCRIPTION:
URL:https://sunysullivan.edu/event/first-day-of-spring-semester-2/
LOCATION:SUNY Sullivan\, 112 College Road\, Loch Sheldrake\, NY\, 12759\, United States
CATEGORIES:Academic Calendar
END:VEVENT
BEGIN:VEVENT
DTSTART;TZID=America/New_York:20260120T153000
DTEND;TZID=America/New_York:20260120T163000
DTSTAMP:20260419T204936
CREATED:20230216T161715Z
LAST-MODIFIED:20230216T161715Z
UID:20894-1768923000-1768926600@sunysullivan.edu
SUMMARY:Student Government Association Open Meetings
DESCRIPTION:The SGA holds open meetings on Tuesdays from 3:30 pm to 4:30 pm in the Student Union. Everyone is welcome to attend!
URL:https://sunysullivan.edu/event/student-government-association-open-meetings/2026-01-20/
LOCATION:SUNY Sullivan\, 112 College Road\, Loch Sheldrake\, NY\, 12759\, United States
CATEGORIES:Student Activities
END:VEVENT
BEGIN:VEVENT
DTSTART;VALUE=DATE:20260120
DTEND;VALUE=DATE:20260121
DTSTAMP:20260419T204936
CREATED:20250521T132653Z
LAST-MODIFIED:20250521T132810Z
UID:28465-1768867200-1768953599@sunysullivan.edu
SUMMARY:RESIDENCE HALL MOVE IN - ALL STUDENTS
DESCRIPTION:
URL:https://sunysullivan.edu/event/residence-hall-move-in-all-students-3/
LOCATION:SUNY Sullivan\, 112 College Road\, Loch Sheldrake\, NY\, 12759\, United States
CATEGORIES:Academic Calendar
END:VEVENT
BEGIN:VEVENT
DTSTART;VALUE=DATE:20260120
DTEND;VALUE=DATE:20260121
DTSTAMP:20260419T204936
CREATED:20250521T134044Z
LAST-MODIFIED:20250521T134044Z
UID:28481-1768867200-1768953599@sunysullivan.edu
SUMMARY:Residence Hall Move In (All Students)
DESCRIPTION:
URL:https://sunysullivan.edu/event/residence-hall-move-in-all-students-4/
LOCATION:SUNY Sullivan\, 112 College Road\, Loch Sheldrake\, NY\, 12759\, United States
CATEGORIES:Academic Calendar,Spring Academic Calendar
END:VEVENT
BEGIN:VEVENT
DTSTART;VALUE=DATE:20260120
DTEND;VALUE=DATE:20260121
DTSTAMP:20260419T204936
CREATED:20250521T132319Z
LAST-MODIFIED:20250521T132319Z
UID:28461-1768867200-1768953599@sunysullivan.edu
SUMMARY:RESIDENCE HALL MOVE IN - ALL STUDENTS
DESCRIPTION:
URL:https://sunysullivan.edu/event/residence-hall-move-in-all-students-2/
LOCATION:SUNY Sullivan\, 112 College Road\, Loch Sheldrake\, NY\, 12759\, United States
CATEGORIES:Academic Calendar
END:VEVENT
BEGIN:VEVENT
DTSTART;VALUE=DATE:20260119
DTEND;VALUE=DATE:20260120
DTSTAMP:20260419T204936
CREATED:20250106T200336Z
LAST-MODIFIED:20250106T200336Z
UID:26599-1768780800-1768867199@sunysullivan.edu
SUMMARY:Martin Luther King Jr. Day
DESCRIPTION:
URL:https://sunysullivan.edu/event/martin-luther-king-jr-day/
LOCATION:SUNY Sullivan\, 112 College Road\, Loch Sheldrake\, NY\, 12759\, United States
CATEGORIES:Academic Calendar,Fall Academic Calendar
END:VEVENT
BEGIN:VEVENT
DTSTART;TZID=America/New_York:20260117T130000
DTEND;TZID=America/New_York:20260117T150000
DTSTAMP:20260419T204936
CREATED:20251111T202733Z
LAST-MODIFIED:20251111T202733Z
UID:30365-1768654800-1768662000@sunysullivan.edu
SUMMARY:Monroe University - Bronx Express @ SUNY Sullivan
DESCRIPTION:Come cheer on the SUNY Sullivan Generals Men’s Basketball team!\n  \nLOCATION: Paul Gerry Fieldhouse | SUNY Sullivan\, Loch Sheldrake\, NY
URL:https://sunysullivan.edu/event/monroe-university-bronx-express-suny-sullivan/
LOCATION:SUNY Sullivan\, 112 College Road\, Loch Sheldrake\, NY\, 12759\, United States
CATEGORIES:Athletics
END:VEVENT
BEGIN:VEVENT
DTSTART;TZID=America/New_York:20260115T180000
DTEND;TZID=America/New_York:20260115T200000
DTSTAMP:20260419T204936
CREATED:20251111T202555Z
LAST-MODIFIED:20251111T202555Z
UID:30355-1768500000-1768507200@sunysullivan.edu
SUMMARY:SUNY Sullivan Generals @ Suffolk County Community College
DESCRIPTION:Come cheer on the SUNY Sullivan Generals Men’s Basketball team!\n  \nLOCATION: Suffolk County Community College | Selden\, NY
URL:https://sunysullivan.edu/event/suny-sullivan-generals-suffolk-county-community-college/
LOCATION:Suffolk County Community College\, Ammerman Campus\, 533 College Rd\, Selden\, NY\, 11784\, United States
CATEGORIES:Athletics
END:VEVENT
BEGIN:VEVENT
DTSTART;TZID=America/New_York:20260114T080000
DTEND;TZID=America/New_York:20260114T170000
DTSTAMP:20260419T204936
CREATED:20250521T132133Z
LAST-MODIFIED:20250521T132133Z
UID:28457-1768377600-1768410000@sunysullivan.edu
SUMMARY:Last Day to Pay Tuition and Fees
DESCRIPTION:
URL:https://sunysullivan.edu/event/last-day-to-pay-tuition-and-fees-4/
LOCATION:SUNY Sullivan\, 112 College Road\, Loch Sheldrake\, NY\, 12759\, United States
CATEGORIES:Academic Calendar
END:VEVENT
BEGIN:VEVENT
DTSTART;VALUE=DATE:20260114
DTEND;VALUE=DATE:20260115
DTSTAMP:20260419T204936
CREATED:20250521T133842Z
LAST-MODIFIED:20250521T133842Z
UID:28477-1768348800-1768435199@sunysullivan.edu
SUMMARY:Last Day to Pay Tuition and Fees
DESCRIPTION:
URL:https://sunysullivan.edu/event/last-day-to-pay-tuition-and-fees-5/
LOCATION:SUNY Sullivan\, 112 College Road\, Loch Sheldrake\, NY\, 12759\, United States
CATEGORIES:Academic Calendar,Spring Academic Calendar
END:VEVENT
BEGIN:VEVENT
DTSTART;TZID=America/New_York:20260113T170000
DTEND;TZID=America/New_York:20260113T190000
DTSTAMP:20260419T204936
CREATED:20251111T201723Z
LAST-MODIFIED:20251111T201850Z
UID:30333-1768323600-1768330800@sunysullivan.edu
SUMMARY:SUNY Sullivan Generals @ Bronx Community College
DESCRIPTION:Come cheer on the SUNY Sullivan Generals Men’s Basketball team!\n  \nLOCATION: Bronx Community College | Bronx\, NY
URL:https://sunysullivan.edu/event/suny-sullivan-generals-v-bronx-community-college-away/
LOCATION:Bronx Community College\, 2155 University Ave\, Bronx\, NY\, 10453\, United States
CATEGORIES:Athletics
END:VEVENT
BEGIN:VEVENT
DTSTART;TZID=America/New_York:20260113T153000
DTEND;TZID=America/New_York:20260113T163000
DTSTAMP:20260419T204936
CREATED:20230216T161715Z
LAST-MODIFIED:20230216T161715Z
UID:20748-1768318200-1768321800@sunysullivan.edu
SUMMARY:Student Government Association Open Meetings
DESCRIPTION:The SGA holds open meetings on Tuesdays from 3:30 pm to 4:30 pm in the Student Union. Everyone is welcome to attend!
URL:https://sunysullivan.edu/event/student-government-association-open-meetings/2026-01-13/
LOCATION:SUNY Sullivan\, 112 College Road\, Loch Sheldrake\, NY\, 12759\, United States
CATEGORIES:Student Activities
END:VEVENT
BEGIN:VEVENT
DTSTART;TZID=America/New_York:20260110T130000
DTEND;TZID=America/New_York:20260110T163000
DTSTAMP:20260419T204936
CREATED:20251014T175958Z
LAST-MODIFIED:20251219T134431Z
UID:29966-1768050000-1768062600@sunysullivan.edu
SUMMARY:The Met Live in HD: I Puritani
DESCRIPTION:The Met: Live in HD will be transmitting a series of live opera performances via satellite from the Metropolitan Opera to SUNY Sullivan.\n\nVINCENZO BELLINI\nI Puritani\nNEW PRODUCTION | LIVE IN HD \nSaturday\, January 10\, 2026 | 1 p.m. \nSoprano Lisette Oropesa and tenor Lawrence Brownlee star in a new production of Bellini’s final masterpiece\, leading a quartet of stars as Elvira and Arturo\, who are brought together by love and torn apart by the political rifts of the English Civil War. Baritone Artur Ruciński is Riccardo\, betrothed to Elvira against her will\, and bass-baritone Christian Van Horn is Elvira’s sympathetic uncle\, Giorgio. Marco Armiliato conducts the new production\, which will be transmitted live from the Met stage to cinemas on January 10. \nBUY TICKETS NOW \n\n\n\n\n\n– \nNEW THIS YEAR: Doors open at noon with pre-performance discussion starting at 12:15 p.m. Live performance begins promptly at 1 p.m.All proceeds to benefit the SUNY Sullivan Foundation | Tickets also available at the door \nAll proceeds to benefit the SUNY Sullivan Foundation | Tickets also available at the door \nDoors and box office will open 30 minutes before screening | All screenings (aside from The Magic Flute and Cinderella) are simulcasts of live performances and will start promptly. \n\nTHANK YOU TO OUR MET OPERA SPONSORS:STEAM FundWJFF Radio
URL:https://sunysullivan.edu/event/the-met-live-in-hd-i-puritani/
LOCATION:SUNY Sullivan\, 112 College Road\, Loch Sheldrake\, NY\, 12759\, United States
CATEGORIES:Community Events,Foundation Events
ATTACH;FMTTYPE=image/jpeg:https://sunysullivan.edu/wp-content/uploads/2025/10/Jan-10-I-Puritani-EB.jpg
END:VEVENT
BEGIN:VEVENT
DTSTART;TZID=America/New_York:20260110T130000
DTEND;TZID=America/New_York:20260110T150000
DTSTAMP:20260419T204936
CREATED:20251111T201527Z
LAST-MODIFIED:20251111T202430Z
UID:30328-1768050000-1768057200@sunysullivan.edu
SUMMARY:SUNY Sullivan Generals @ Borough of Manhattan Community College
DESCRIPTION:Come cheer on the SUNY Sullivan Generals Men’s Basketball team!\n  \nLOCATION: Borough of Manhattan Community College | New York\, NY
URL:https://sunysullivan.edu/event/suny-sullivan-generals-v-borough-of-manhattan-community-college-away/
LOCATION:Borough of Manhattan Commmunity College\, 199 Chambers St\, New York\, NY\, 10007\, United States
CATEGORIES:Athletics
END:VEVENT
BEGIN:VEVENT
DTSTART;TZID=America/New_York:20260106T153000
DTEND;TZID=America/New_York:20260106T163000
DTSTAMP:20260419T204936
CREATED:20230216T161715Z
LAST-MODIFIED:20230216T161715Z
UID:20681-1767713400-1767717000@sunysullivan.edu
SUMMARY:Student Government Association Open Meetings
DESCRIPTION:The SGA holds open meetings on Tuesdays from 3:30 pm to 4:30 pm in the Student Union. Everyone is welcome to attend!
URL:https://sunysullivan.edu/event/student-government-association-open-meetings/2026-01-06/
LOCATION:SUNY Sullivan\, 112 College Road\, Loch Sheldrake\, NY\, 12759\, United States
CATEGORIES:Student Activities
END:VEVENT
BEGIN:VEVENT
DTSTART;TZID=America/New_York:20260103T190000
DTEND;TZID=America/New_York:20260103T210000
DTSTAMP:20260419T204936
CREATED:20251111T203116Z
LAST-MODIFIED:20251111T203116Z
UID:30378-1767466800-1767474000@sunysullivan.edu
SUMMARY:SUNY Sullivan Generals @ Rockland Community College
DESCRIPTION:Come cheer on the SUNY Sullivan Generals Men’s Basketball team!\n  \nLOCATION: Rockland Community College | Suffern\, NY
URL:https://sunysullivan.edu/event/suny-sullivan-generals-rockland-community-college/
LOCATION:Rockland Community College\, 145 College Rd\, Suffern\, NY\, 10901\, United States
CATEGORIES:Athletics
END:VEVENT
BEGIN:VEVENT
DTSTART;TZID=America/New_York:20251230T153000
DTEND;TZID=America/New_York:20251230T163000
DTSTAMP:20260419T204936
CREATED:20230216T161715Z
LAST-MODIFIED:20230216T161715Z
UID:20642-1767108600-1767112200@sunysullivan.edu
SUMMARY:Student Government Association Open Meetings
DESCRIPTION:The SGA holds open meetings on Tuesdays from 3:30 pm to 4:30 pm in the Student Union. Everyone is welcome to attend!
URL:https://sunysullivan.edu/event/student-government-association-open-meetings/2025-12-30/
LOCATION:SUNY Sullivan\, 112 College Road\, Loch Sheldrake\, NY\, 12759\, United States
CATEGORIES:Student Activities
END:VEVENT
BEGIN:VEVENT
DTSTART;TZID=America/New_York:20251223T153000
DTEND;TZID=America/New_York:20251223T163000
DTSTAMP:20260419T204936
CREATED:20230216T161715Z
LAST-MODIFIED:20230216T161715Z
UID:20640-1766503800-1766507400@sunysullivan.edu
SUMMARY:Student Government Association Open Meetings
DESCRIPTION:The SGA holds open meetings on Tuesdays from 3:30 pm to 4:30 pm in the Student Union. Everyone is welcome to attend!
URL:https://sunysullivan.edu/event/student-government-association-open-meetings/2025-12-23/
LOCATION:SUNY Sullivan\, 112 College Road\, Loch Sheldrake\, NY\, 12759\, United States
CATEGORIES:Student Activities
END:VEVENT
BEGIN:VEVENT
DTSTART;VALUE=DATE:20251223
DTEND;VALUE=DATE:20251224
DTSTAMP:20260419T204936
CREATED:20240222T201354Z
LAST-MODIFIED:20241223T140447Z
UID:21571-1766448000-1766534399@sunysullivan.edu
SUMMARY:Last Day to Drop a Course - Winter Session
DESCRIPTION:If submitted after today\, will receive a “W”
URL:https://sunysullivan.edu/event/last-day-to-drop-a-course-5/
LOCATION:SUNY Sullivan\, 112 College Road\, Loch Sheldrake\, NY\, 12759\, United States
CATEGORIES:Academic Calendar,Winter Academic Calendar
END:VEVENT
BEGIN:VEVENT
DTSTART;TZID=America/New_York:20251216T153000
DTEND;TZID=America/New_York:20251216T163000
DTSTAMP:20260419T204936
CREATED:20230216T161715Z
LAST-MODIFIED:20230216T161715Z
UID:20605-1765899000-1765902600@sunysullivan.edu
SUMMARY:Student Government Association Open Meetings
DESCRIPTION:The SGA holds open meetings on Tuesdays from 3:30 pm to 4:30 pm in the Student Union. Everyone is welcome to attend!
URL:https://sunysullivan.edu/event/student-government-association-open-meetings/2025-12-16/
LOCATION:SUNY Sullivan\, 112 College Road\, Loch Sheldrake\, NY\, 12759\, United States
CATEGORIES:Student Activities
END:VEVENT
BEGIN:VEVENT
DTSTART;VALUE=DATE:20251215
DTEND;VALUE=DATE:20251216
DTSTAMP:20260419T204936
CREATED:20250418T144857Z
LAST-MODIFIED:20250418T144857Z
UID:27947-1765756800-1765843199@sunysullivan.edu
SUMMARY:Final Grades Due (Full and Express)
DESCRIPTION:
URL:https://sunysullivan.edu/event/final-grades-due-full-and-express/
LOCATION:SUNY Sullivan\, 112 College Road\, Loch Sheldrake\, NY\, 12759\, United States
CATEGORIES:Academic Calendar,Fall Academic Calendar
END:VEVENT
END:VCALENDAR