BEGIN:VCALENDAR
VERSION:2.0
PRODID:-//SUNY Sullivan - ECPv6.15.20//NONSGML v1.0//EN
CALSCALE:GREGORIAN
METHOD:PUBLISH
X-WR-CALNAME:SUNY Sullivan
X-ORIGINAL-URL:https://sunysullivan.edu
X-WR-CALDESC:Events for SUNY Sullivan
REFRESH-INTERVAL;VALUE=DURATION:PT1H
X-Robots-Tag:noindex
X-PUBLISHED-TTL:PT1H
BEGIN:VTIMEZONE
TZID:America/New_York
BEGIN:DAYLIGHT
TZOFFSETFROM:-0500
TZOFFSETTO:-0400
TZNAME:EDT
DTSTART:20260308T070000
END:DAYLIGHT
BEGIN:STANDARD
TZOFFSETFROM:-0400
TZOFFSETTO:-0500
TZNAME:EST
DTSTART:20261101T060000
END:STANDARD
BEGIN:DAYLIGHT
TZOFFSETFROM:-0500
TZOFFSETTO:-0400
TZNAME:EDT
DTSTART:20270314T070000
END:DAYLIGHT
BEGIN:STANDARD
TZOFFSETFROM:-0400
TZOFFSETTO:-0500
TZNAME:EST
DTSTART:20271107T060000
END:STANDARD
BEGIN:DAYLIGHT
TZOFFSETFROM:-0500
TZOFFSETTO:-0400
TZNAME:EDT
DTSTART:20280312T070000
END:DAYLIGHT
BEGIN:STANDARD
TZOFFSETFROM:-0400
TZOFFSETTO:-0500
TZNAME:EST
DTSTART:20281105T060000
END:STANDARD
END:VTIMEZONE
BEGIN:VEVENT
DTSTART;TZID=America/New_York:20270216T153000
DTEND;TZID=America/New_York:20270216T163000
DTSTAMP:20260423T105531
CREATED:20230216T161715Z
LAST-MODIFIED:20230216T161715Z
UID:26994-1802791800-1802795400@sunysullivan.edu
SUMMARY:Student Government Association Open Meetings
DESCRIPTION:The SGA holds open meetings on Tuesdays from 3:30 pm to 4:30 pm in the Student Union. Everyone is welcome to attend!
URL:https://sunysullivan.edu/event/student-government-association-open-meetings/2027-02-16/
LOCATION:SUNY Sullivan\, 112 College Road\, Loch Sheldrake\, NY\, 12759\, United States
CATEGORIES:Student Activities
END:VEVENT
BEGIN:VEVENT
DTSTART;TZID=America/New_York:20270223T153000
DTEND;TZID=America/New_York:20270223T163000
DTSTAMP:20260423T105531
CREATED:20230216T161715Z
LAST-MODIFIED:20230216T161715Z
UID:27051-1803396600-1803400200@sunysullivan.edu
SUMMARY:Student Government Association Open Meetings
DESCRIPTION:The SGA holds open meetings on Tuesdays from 3:30 pm to 4:30 pm in the Student Union. Everyone is welcome to attend!
URL:https://sunysullivan.edu/event/student-government-association-open-meetings/2027-02-23/
LOCATION:SUNY Sullivan\, 112 College Road\, Loch Sheldrake\, NY\, 12759\, United States
CATEGORIES:Student Activities
END:VEVENT
BEGIN:VEVENT
DTSTART;TZID=America/New_York:20270302T153000
DTEND;TZID=America/New_York:20270302T163000
DTSTAMP:20260423T105531
CREATED:20230216T161715Z
LAST-MODIFIED:20230216T161715Z
UID:27122-1804001400-1804005000@sunysullivan.edu
SUMMARY:Student Government Association Open Meetings
DESCRIPTION:The SGA holds open meetings on Tuesdays from 3:30 pm to 4:30 pm in the Student Union. Everyone is welcome to attend!
URL:https://sunysullivan.edu/event/student-government-association-open-meetings/2027-03-02/
LOCATION:SUNY Sullivan\, 112 College Road\, Loch Sheldrake\, NY\, 12759\, United States
CATEGORIES:Student Activities
END:VEVENT
BEGIN:VEVENT
DTSTART;TZID=America/New_York:20270309T153000
DTEND;TZID=America/New_York:20270309T163000
DTSTAMP:20260423T105531
CREATED:20230216T161715Z
LAST-MODIFIED:20230216T161715Z
UID:27209-1804606200-1804609800@sunysullivan.edu
SUMMARY:Student Government Association Open Meetings
DESCRIPTION:The SGA holds open meetings on Tuesdays from 3:30 pm to 4:30 pm in the Student Union. Everyone is welcome to attend!
URL:https://sunysullivan.edu/event/student-government-association-open-meetings/2027-03-09/
LOCATION:SUNY Sullivan\, 112 College Road\, Loch Sheldrake\, NY\, 12759\, United States
CATEGORIES:Student Activities
END:VEVENT
BEGIN:VEVENT
DTSTART;TZID=America/New_York:20270316T153000
DTEND;TZID=America/New_York:20270316T163000
DTSTAMP:20260423T105531
CREATED:20230216T161715Z
LAST-MODIFIED:20230216T161715Z
UID:27407-1805211000-1805214600@sunysullivan.edu
SUMMARY:Student Government Association Open Meetings
DESCRIPTION:The SGA holds open meetings on Tuesdays from 3:30 pm to 4:30 pm in the Student Union. Everyone is welcome to attend!
URL:https://sunysullivan.edu/event/student-government-association-open-meetings/2027-03-16/
LOCATION:SUNY Sullivan\, 112 College Road\, Loch Sheldrake\, NY\, 12759\, United States
CATEGORIES:Student Activities
END:VEVENT
BEGIN:VEVENT
DTSTART;TZID=America/New_York:20270323T153000
DTEND;TZID=America/New_York:20270323T163000
DTSTAMP:20260423T105531
CREATED:20230216T161715Z
LAST-MODIFIED:20230216T161715Z
UID:27455-1805815800-1805819400@sunysullivan.edu
SUMMARY:Student Government Association Open Meetings
DESCRIPTION:The SGA holds open meetings on Tuesdays from 3:30 pm to 4:30 pm in the Student Union. Everyone is welcome to attend!
URL:https://sunysullivan.edu/event/student-government-association-open-meetings/2027-03-23/
LOCATION:SUNY Sullivan\, 112 College Road\, Loch Sheldrake\, NY\, 12759\, United States
CATEGORIES:Student Activities
END:VEVENT
BEGIN:VEVENT
DTSTART;TZID=America/New_York:20270330T153000
DTEND;TZID=America/New_York:20270330T163000
DTSTAMP:20260423T105531
CREATED:20230216T161715Z
LAST-MODIFIED:20230216T161715Z
UID:27558-1806420600-1806424200@sunysullivan.edu
SUMMARY:Student Government Association Open Meetings
DESCRIPTION:The SGA holds open meetings on Tuesdays from 3:30 pm to 4:30 pm in the Student Union. Everyone is welcome to attend!
URL:https://sunysullivan.edu/event/student-government-association-open-meetings/2027-03-30/
LOCATION:SUNY Sullivan\, 112 College Road\, Loch Sheldrake\, NY\, 12759\, United States
CATEGORIES:Student Activities
END:VEVENT
BEGIN:VEVENT
DTSTART;TZID=America/New_York:20270406T153000
DTEND;TZID=America/New_York:20270406T163000
DTSTAMP:20260423T105531
CREATED:20230216T161715Z
LAST-MODIFIED:20230216T161715Z
UID:27707-1807025400-1807029000@sunysullivan.edu
SUMMARY:Student Government Association Open Meetings
DESCRIPTION:The SGA holds open meetings on Tuesdays from 3:30 pm to 4:30 pm in the Student Union. Everyone is welcome to attend!
URL:https://sunysullivan.edu/event/student-government-association-open-meetings/2027-04-06/
LOCATION:SUNY Sullivan\, 112 College Road\, Loch Sheldrake\, NY\, 12759\, United States
CATEGORIES:Student Activities
END:VEVENT
BEGIN:VEVENT
DTSTART;TZID=America/New_York:20270413T153000
DTEND;TZID=America/New_York:20270413T163000
DTSTAMP:20260423T105531
CREATED:20230216T161715Z
LAST-MODIFIED:20230216T161715Z
UID:27793-1807630200-1807633800@sunysullivan.edu
SUMMARY:Student Government Association Open Meetings
DESCRIPTION:The SGA holds open meetings on Tuesdays from 3:30 pm to 4:30 pm in the Student Union. Everyone is welcome to attend!
URL:https://sunysullivan.edu/event/student-government-association-open-meetings/2027-04-13/
LOCATION:SUNY Sullivan\, 112 College Road\, Loch Sheldrake\, NY\, 12759\, United States
CATEGORIES:Student Activities
END:VEVENT
BEGIN:VEVENT
DTSTART;TZID=America/New_York:20270420T153000
DTEND;TZID=America/New_York:20270420T163000
DTSTAMP:20260423T105531
CREATED:20230216T161715Z
LAST-MODIFIED:20230216T161715Z
UID:27991-1808235000-1808238600@sunysullivan.edu
SUMMARY:Student Government Association Open Meetings
DESCRIPTION:The SGA holds open meetings on Tuesdays from 3:30 pm to 4:30 pm in the Student Union. Everyone is welcome to attend!
URL:https://sunysullivan.edu/event/student-government-association-open-meetings/2027-04-20/
LOCATION:SUNY Sullivan\, 112 College Road\, Loch Sheldrake\, NY\, 12759\, United States
CATEGORIES:Student Activities
END:VEVENT
BEGIN:VEVENT
DTSTART;TZID=America/New_York:20270427T153000
DTEND;TZID=America/New_York:20270427T163000
DTSTAMP:20260423T105531
CREATED:20230216T161715Z
LAST-MODIFIED:20230216T161715Z
UID:28166-1808839800-1808843400@sunysullivan.edu
SUMMARY:Student Government Association Open Meetings
DESCRIPTION:The SGA holds open meetings on Tuesdays from 3:30 pm to 4:30 pm in the Student Union. Everyone is welcome to attend!
URL:https://sunysullivan.edu/event/student-government-association-open-meetings/2027-04-27/
LOCATION:SUNY Sullivan\, 112 College Road\, Loch Sheldrake\, NY\, 12759\, United States
CATEGORIES:Student Activities
END:VEVENT
BEGIN:VEVENT
DTSTART;TZID=America/New_York:20270504T153000
DTEND;TZID=America/New_York:20270504T163000
DTSTAMP:20260423T105531
CREATED:20230216T161715Z
LAST-MODIFIED:20230216T161715Z
UID:28228-1809444600-1809448200@sunysullivan.edu
SUMMARY:Student Government Association Open Meetings
DESCRIPTION:The SGA holds open meetings on Tuesdays from 3:30 pm to 4:30 pm in the Student Union. Everyone is welcome to attend!
URL:https://sunysullivan.edu/event/student-government-association-open-meetings/2027-05-04/
LOCATION:SUNY Sullivan\, 112 College Road\, Loch Sheldrake\, NY\, 12759\, United States
CATEGORIES:Student Activities
END:VEVENT
BEGIN:VEVENT
DTSTART;TZID=America/New_York:20270511T153000
DTEND;TZID=America/New_York:20270511T163000
DTSTAMP:20260423T105531
CREATED:20230216T161715Z
LAST-MODIFIED:20230216T161715Z
UID:28329-1810049400-1810053000@sunysullivan.edu
SUMMARY:Student Government Association Open Meetings
DESCRIPTION:The SGA holds open meetings on Tuesdays from 3:30 pm to 4:30 pm in the Student Union. Everyone is welcome to attend!
URL:https://sunysullivan.edu/event/student-government-association-open-meetings/2027-05-11/
LOCATION:SUNY Sullivan\, 112 College Road\, Loch Sheldrake\, NY\, 12759\, United States
CATEGORIES:Student Activities
END:VEVENT
BEGIN:VEVENT
DTSTART;TZID=America/New_York:20270518T153000
DTEND;TZID=America/New_York:20270518T163000
DTSTAMP:20260423T105531
CREATED:20230216T161715Z
LAST-MODIFIED:20230216T161715Z
UID:28431-1810654200-1810657800@sunysullivan.edu
SUMMARY:Student Government Association Open Meetings
DESCRIPTION:The SGA holds open meetings on Tuesdays from 3:30 pm to 4:30 pm in the Student Union. Everyone is welcome to attend!
URL:https://sunysullivan.edu/event/student-government-association-open-meetings/2027-05-18/
LOCATION:SUNY Sullivan\, 112 College Road\, Loch Sheldrake\, NY\, 12759\, United States
CATEGORIES:Student Activities
END:VEVENT
BEGIN:VEVENT
DTSTART;TZID=America/New_York:20270525T153000
DTEND;TZID=America/New_York:20270525T163000
DTSTAMP:20260423T105531
CREATED:20230216T161715Z
LAST-MODIFIED:20230216T161715Z
UID:28650-1811259000-1811262600@sunysullivan.edu
SUMMARY:Student Government Association Open Meetings
DESCRIPTION:The SGA holds open meetings on Tuesdays from 3:30 pm to 4:30 pm in the Student Union. Everyone is welcome to attend!
URL:https://sunysullivan.edu/event/student-government-association-open-meetings/2027-05-25/
LOCATION:SUNY Sullivan\, 112 College Road\, Loch Sheldrake\, NY\, 12759\, United States
CATEGORIES:Student Activities
END:VEVENT
BEGIN:VEVENT
DTSTART;TZID=America/New_York:20270601T153000
DTEND;TZID=America/New_York:20270601T163000
DTSTAMP:20260423T105531
CREATED:20230216T161715Z
LAST-MODIFIED:20230216T161715Z
UID:28723-1811863800-1811867400@sunysullivan.edu
SUMMARY:Student Government Association Open Meetings
DESCRIPTION:The SGA holds open meetings on Tuesdays from 3:30 pm to 4:30 pm in the Student Union. Everyone is welcome to attend!
URL:https://sunysullivan.edu/event/student-government-association-open-meetings/2027-06-01/
LOCATION:SUNY Sullivan\, 112 College Road\, Loch Sheldrake\, NY\, 12759\, United States
CATEGORIES:Student Activities
END:VEVENT
BEGIN:VEVENT
DTSTART;TZID=America/New_York:20270608T153000
DTEND;TZID=America/New_York:20270608T163000
DTSTAMP:20260423T105531
CREATED:20230216T161715Z
LAST-MODIFIED:20230216T161715Z
UID:28822-1812468600-1812472200@sunysullivan.edu
SUMMARY:Student Government Association Open Meetings
DESCRIPTION:The SGA holds open meetings on Tuesdays from 3:30 pm to 4:30 pm in the Student Union. Everyone is welcome to attend!
URL:https://sunysullivan.edu/event/student-government-association-open-meetings/2027-06-08/
LOCATION:SUNY Sullivan\, 112 College Road\, Loch Sheldrake\, NY\, 12759\, United States
CATEGORIES:Student Activities
END:VEVENT
BEGIN:VEVENT
DTSTART;TZID=America/New_York:20270615T153000
DTEND;TZID=America/New_York:20270615T163000
DTSTAMP:20260423T105531
CREATED:20230216T161715Z
LAST-MODIFIED:20230216T161715Z
UID:28862-1813073400-1813077000@sunysullivan.edu
SUMMARY:Student Government Association Open Meetings
DESCRIPTION:The SGA holds open meetings on Tuesdays from 3:30 pm to 4:30 pm in the Student Union. Everyone is welcome to attend!
URL:https://sunysullivan.edu/event/student-government-association-open-meetings/2027-06-15/
LOCATION:SUNY Sullivan\, 112 College Road\, Loch Sheldrake\, NY\, 12759\, United States
CATEGORIES:Student Activities
END:VEVENT
BEGIN:VEVENT
DTSTART;TZID=America/New_York:20270622T153000
DTEND;TZID=America/New_York:20270622T163000
DTSTAMP:20260423T105531
CREATED:20230216T161715Z
LAST-MODIFIED:20230216T161715Z
UID:28893-1813678200-1813681800@sunysullivan.edu
SUMMARY:Student Government Association Open Meetings
DESCRIPTION:The SGA holds open meetings on Tuesdays from 3:30 pm to 4:30 pm in the Student Union. Everyone is welcome to attend!
URL:https://sunysullivan.edu/event/student-government-association-open-meetings/2027-06-22/
LOCATION:SUNY Sullivan\, 112 College Road\, Loch Sheldrake\, NY\, 12759\, United States
CATEGORIES:Student Activities
END:VEVENT
BEGIN:VEVENT
DTSTART;TZID=America/New_York:20270629T153000
DTEND;TZID=America/New_York:20270629T163000
DTSTAMP:20260423T105531
CREATED:20230216T161715Z
LAST-MODIFIED:20230216T161715Z
UID:28918-1814283000-1814286600@sunysullivan.edu
SUMMARY:Student Government Association Open Meetings
DESCRIPTION:The SGA holds open meetings on Tuesdays from 3:30 pm to 4:30 pm in the Student Union. Everyone is welcome to attend!
URL:https://sunysullivan.edu/event/student-government-association-open-meetings/2027-06-29/
LOCATION:SUNY Sullivan\, 112 College Road\, Loch Sheldrake\, NY\, 12759\, United States
CATEGORIES:Student Activities
END:VEVENT
BEGIN:VEVENT
DTSTART;TZID=America/New_York:20270706T153000
DTEND;TZID=America/New_York:20270706T163000
DTSTAMP:20260423T105531
CREATED:20230216T161715Z
LAST-MODIFIED:20230216T161715Z
UID:28963-1814887800-1814891400@sunysullivan.edu
SUMMARY:Student Government Association Open Meetings
DESCRIPTION:The SGA holds open meetings on Tuesdays from 3:30 pm to 4:30 pm in the Student Union. Everyone is welcome to attend!
URL:https://sunysullivan.edu/event/student-government-association-open-meetings/2027-07-06/
LOCATION:SUNY Sullivan\, 112 College Road\, Loch Sheldrake\, NY\, 12759\, United States
CATEGORIES:Student Activities
END:VEVENT
BEGIN:VEVENT
DTSTART;TZID=America/New_York:20270713T153000
DTEND;TZID=America/New_York:20270713T163000
DTSTAMP:20260423T105531
CREATED:20230216T161715Z
LAST-MODIFIED:20230216T161715Z
UID:29021-1815492600-1815496200@sunysullivan.edu
SUMMARY:Student Government Association Open Meetings
DESCRIPTION:The SGA holds open meetings on Tuesdays from 3:30 pm to 4:30 pm in the Student Union. Everyone is welcome to attend!
URL:https://sunysullivan.edu/event/student-government-association-open-meetings/2027-07-13/
LOCATION:SUNY Sullivan\, 112 College Road\, Loch Sheldrake\, NY\, 12759\, United States
CATEGORIES:Student Activities
END:VEVENT
BEGIN:VEVENT
DTSTART;TZID=America/New_York:20270720T153000
DTEND;TZID=America/New_York:20270720T163000
DTSTAMP:20260423T105531
CREATED:20230216T161715Z
LAST-MODIFIED:20230216T161715Z
UID:29035-1816097400-1816101000@sunysullivan.edu
SUMMARY:Student Government Association Open Meetings
DESCRIPTION:The SGA holds open meetings on Tuesdays from 3:30 pm to 4:30 pm in the Student Union. Everyone is welcome to attend!
URL:https://sunysullivan.edu/event/student-government-association-open-meetings/2027-07-20/
LOCATION:SUNY Sullivan\, 112 College Road\, Loch Sheldrake\, NY\, 12759\, United States
CATEGORIES:Student Activities
END:VEVENT
BEGIN:VEVENT
DTSTART;TZID=America/New_York:20270727T153000
DTEND;TZID=America/New_York:20270727T163000
DTSTAMP:20260423T105531
CREATED:20230216T161715Z
LAST-MODIFIED:20230216T161715Z
UID:29113-1816702200-1816705800@sunysullivan.edu
SUMMARY:Student Government Association Open Meetings
DESCRIPTION:The SGA holds open meetings on Tuesdays from 3:30 pm to 4:30 pm in the Student Union. Everyone is welcome to attend!
URL:https://sunysullivan.edu/event/student-government-association-open-meetings/2027-07-27/
LOCATION:SUNY Sullivan\, 112 College Road\, Loch Sheldrake\, NY\, 12759\, United States
CATEGORIES:Student Activities
END:VEVENT
BEGIN:VEVENT
DTSTART;TZID=America/New_York:20270803T153000
DTEND;TZID=America/New_York:20270803T163000
DTSTAMP:20260423T105531
CREATED:20230216T161715Z
LAST-MODIFIED:20230216T161715Z
UID:29157-1817307000-1817310600@sunysullivan.edu
SUMMARY:Student Government Association Open Meetings
DESCRIPTION:The SGA holds open meetings on Tuesdays from 3:30 pm to 4:30 pm in the Student Union. Everyone is welcome to attend!
URL:https://sunysullivan.edu/event/student-government-association-open-meetings/2027-08-03/
LOCATION:SUNY Sullivan\, 112 College Road\, Loch Sheldrake\, NY\, 12759\, United States
CATEGORIES:Student Activities
END:VEVENT
BEGIN:VEVENT
DTSTART;TZID=America/New_York:20270810T153000
DTEND;TZID=America/New_York:20270810T163000
DTSTAMP:20260423T105531
CREATED:20230216T161715Z
LAST-MODIFIED:20230216T161715Z
UID:29179-1817911800-1817915400@sunysullivan.edu
SUMMARY:Student Government Association Open Meetings
DESCRIPTION:The SGA holds open meetings on Tuesdays from 3:30 pm to 4:30 pm in the Student Union. Everyone is welcome to attend!
URL:https://sunysullivan.edu/event/student-government-association-open-meetings/2027-08-10/
LOCATION:SUNY Sullivan\, 112 College Road\, Loch Sheldrake\, NY\, 12759\, United States
CATEGORIES:Student Activities
END:VEVENT
BEGIN:VEVENT
DTSTART;TZID=America/New_York:20270817T153000
DTEND;TZID=America/New_York:20270817T163000
DTSTAMP:20260423T105531
CREATED:20230216T161715Z
LAST-MODIFIED:20230216T161715Z
UID:29244-1818516600-1818520200@sunysullivan.edu
SUMMARY:Student Government Association Open Meetings
DESCRIPTION:The SGA holds open meetings on Tuesdays from 3:30 pm to 4:30 pm in the Student Union. Everyone is welcome to attend!
URL:https://sunysullivan.edu/event/student-government-association-open-meetings/2027-08-17/
LOCATION:SUNY Sullivan\, 112 College Road\, Loch Sheldrake\, NY\, 12759\, United States
CATEGORIES:Student Activities
END:VEVENT
BEGIN:VEVENT
DTSTART;TZID=America/New_York:20270824T153000
DTEND;TZID=America/New_York:20270824T163000
DTSTAMP:20260423T105531
CREATED:20230216T161715Z
LAST-MODIFIED:20230216T161715Z
UID:29291-1819121400-1819125000@sunysullivan.edu
SUMMARY:Student Government Association Open Meetings
DESCRIPTION:The SGA holds open meetings on Tuesdays from 3:30 pm to 4:30 pm in the Student Union. Everyone is welcome to attend!
URL:https://sunysullivan.edu/event/student-government-association-open-meetings/2027-08-24/
LOCATION:SUNY Sullivan\, 112 College Road\, Loch Sheldrake\, NY\, 12759\, United States
CATEGORIES:Student Activities
END:VEVENT
BEGIN:VEVENT
DTSTART;TZID=America/New_York:20270831T153000
DTEND;TZID=America/New_York:20270831T163000
DTSTAMP:20260423T105531
CREATED:20230216T161715Z
LAST-MODIFIED:20230216T161715Z
UID:29331-1819726200-1819729800@sunysullivan.edu
SUMMARY:Student Government Association Open Meetings
DESCRIPTION:The SGA holds open meetings on Tuesdays from 3:30 pm to 4:30 pm in the Student Union. Everyone is welcome to attend!
URL:https://sunysullivan.edu/event/student-government-association-open-meetings/2027-08-31/
LOCATION:SUNY Sullivan\, 112 College Road\, Loch Sheldrake\, NY\, 12759\, United States
CATEGORIES:Student Activities
END:VEVENT
BEGIN:VEVENT
DTSTART;TZID=America/New_York:20270907T153000
DTEND;TZID=America/New_York:20270907T163000
DTSTAMP:20260423T105531
CREATED:20230216T161715Z
LAST-MODIFIED:20230216T161715Z
UID:29382-1820331000-1820334600@sunysullivan.edu
SUMMARY:Student Government Association Open Meetings
DESCRIPTION:The SGA holds open meetings on Tuesdays from 3:30 pm to 4:30 pm in the Student Union. Everyone is welcome to attend!
URL:https://sunysullivan.edu/event/student-government-association-open-meetings/2027-09-07/
LOCATION:SUNY Sullivan\, 112 College Road\, Loch Sheldrake\, NY\, 12759\, United States
CATEGORIES:Student Activities
END:VEVENT
END:VCALENDAR