BEGIN:VCALENDAR
VERSION:2.0
PRODID:-//SUNY Sullivan - ECPv6.15.20//NONSGML v1.0//EN
CALSCALE:GREGORIAN
METHOD:PUBLISH
X-WR-CALNAME:SUNY Sullivan
X-ORIGINAL-URL:https://sunysullivan.edu
X-WR-CALDESC:Events for SUNY Sullivan
REFRESH-INTERVAL;VALUE=DURATION:PT1H
X-Robots-Tag:noindex
X-PUBLISHED-TTL:PT1H
BEGIN:VTIMEZONE
TZID:America/New_York
BEGIN:DAYLIGHT
TZOFFSETFROM:-0500
TZOFFSETTO:-0400
TZNAME:EDT
DTSTART:20240310T070000
END:DAYLIGHT
BEGIN:STANDARD
TZOFFSETFROM:-0400
TZOFFSETTO:-0500
TZNAME:EST
DTSTART:20241103T060000
END:STANDARD
BEGIN:DAYLIGHT
TZOFFSETFROM:-0500
TZOFFSETTO:-0400
TZNAME:EDT
DTSTART:20250309T070000
END:DAYLIGHT
BEGIN:STANDARD
TZOFFSETFROM:-0400
TZOFFSETTO:-0500
TZNAME:EST
DTSTART:20251102T060000
END:STANDARD
BEGIN:DAYLIGHT
TZOFFSETFROM:-0500
TZOFFSETTO:-0400
TZNAME:EDT
DTSTART:20260308T070000
END:DAYLIGHT
BEGIN:STANDARD
TZOFFSETFROM:-0400
TZOFFSETTO:-0500
TZNAME:EST
DTSTART:20261101T060000
END:STANDARD
END:VTIMEZONE
BEGIN:VEVENT
DTSTART;TZID=America/New_York:20251122T130000
DTEND;TZID=America/New_York:20251122T173000
DTSTAMP:20260425T083344
CREATED:20251014T173134Z
LAST-MODIFIED:20251117T181431Z
UID:29945-1763816400-1763832600@sunysullivan.edu
SUMMARY:The Met Live in HD: Arabella
DESCRIPTION:The Met: Live in HD will be transmitting a series of live opera performances via satellite from the Metropolitan Opera to SUNY Sullivan.\n\nRICHARD STRAUSS\nArabella\nREVIVAL | LIVE IN HD \nSaturday\, November 22\, 2025 | 1 p.m. \nStrauss’s elegant romance brings the glamour and enchantment of 19th-century Vienna to the Met in a sumptuous production by legendary director Otto Schenk. Soprano Rachel Willis-Sørensen stars as the title heroine\, a young noblewoman in search of love on her own terms. Nicholas Carter conducts the November 22 performance\, which will be transmitted live from the Met stage to cinemas worldwide. \n\nBUY TICKETS NOW \n\n\n\n\n\n  \nAll proceeds to benefit the SUNY Sullivan Foundation | Tickets also available at the door \nDoors and box office will open 30 minutes before screening | All screenings (aside from The Magic Flute and Cinderella) are simulcasts of live performances and will start promptly. \n 
URL:https://sunysullivan.edu/event/the-met-live-in-hd-arabella/
LOCATION:SUNY Sullivan\, 112 College Road\, Loch Sheldrake\, NY\, 12759\, United States
CATEGORIES:Community Events,Foundation Events
ATTACH;FMTTYPE=image/jpeg:https://sunysullivan.edu/wp-content/uploads/2025/10/Nov-22-Arabella-EB.jpg
END:VEVENT
BEGIN:VEVENT
DTSTART;TZID=America/New_York:20251122T100000
DTEND;TZID=America/New_York:20251122T160000
DTSTAMP:20260425T083344
CREATED:20251118T143314Z
LAST-MODIFIED:20251120T141305Z
UID:30455-1763805600-1763827200@sunysullivan.edu
SUMMARY:SUNY Sullivan's Holiday Craft Fair
DESCRIPTION:  \n🎄 Holiday Craft Fair: Shop Local & Support the SUNY Sullivan Food Pantry 🛍️\n  \nMark your calendars for a festive day of shopping at SUNY Sullivan’s Annual Holiday Craft Fair! Featuring 100 talented vendors\, you’ll find the perfect unique gifts for everyone on your list—or a treat for yourself! \nEvent Details \n\n\nDate: Saturday\, November 22\, 2025 \n\n\nTime: 10 a.m. to 4 p.m. \n\n\nLocation: Paul Gerry Fieldhouse at SUNY Sullivan \n\n\nAddress: 112 College Road\, Loch Sheldrake\, NY 12759 \n\n\nAdmission & Parking: FREE!! \n\n\nWhat to Expect \nDiscover a wide array of handcrafted goods and specialty items! Browse items like unique jewelry\, handmade clothing\, beautiful holiday décor\, woodwork\, pottery\, fine art\, and more. \nWith over 100 vendors\, you are sure to find something special while supporting small\, local businesses! \n\nHelp Support Our Food Pantry!\nAttendees are encouraged to bring any donation for the SUNY Sullivan Food Pantry\, including canned and boxed foods\, almond milk and other shelf-safe beverages\, shampoo\, body wash\, toothpaste\, baby wipes\, disposable diapers\, and more. \nDonations of canned foods and other non-perishable items can be dropped off at SUNY Sullivan’s table at the Holiday Craft Fair.
URL:https://sunysullivan.edu/event/holiday-craft-fair-2025/
LOCATION:SUNY Sullivan Paul Gerry Fieldhouse\, Loch Sheldrake\, NY\, United States
CATEGORIES:Community Events,Foundation Events
ATTACH;FMTTYPE=image/jpeg:https://sunysullivan.edu/wp-content/uploads/2025/11/2025-event-image-1.jpg
END:VEVENT
END:VCALENDAR